BEGIN:VCALENDAR
VERSION:2.0
PRODID:-//kellogg.northwestern.edu///Outlook MIMEDIR//EN
X-WR-CALNAME: All Faculty Events
BEGIN:VEVENT
DTSTAMP:20260420T005347Z
DTSTART:20210428T160000Z
DTEND:20210428T171500Z
SUMMARY:Michael Ewens
X-ALT-DESC;FMTTYPE=text/html:"Board Dynamics over the Startup Life Cycle"
DESCRIPTION:"Board Dynamics over the Startup Life Cycle"
LOCATION:Virtual Event
SEQUENCE:0
UID:9c4aa3c8-8b24-4d25-9838-906a7dcb8efe
END:VEVENT
END:VCALENDAR
