BEGIN:VCALENDAR
VERSION:2.0
PRODID:-//kellogg.northwestern.edu///Outlook MIMEDIR//EN
X-WR-CALNAME: All Faculty Events
BEGIN:VEVENT
DTSTAMP:20260419T223104Z
DTSTART:20241016T184500Z
DTEND:20241016T200000Z
SUMMARY:Ufuk Akcigit
X-ALT-DESC;FMTTYPE=text/html:tba
DESCRIPTION:tba
LOCATION:Kellogg Global Hub 4101, virtual option
SEQUENCE:0
UID:9b6d424a-9ae1-4861-aedf-10dc2d3a622a
END:VEVENT
END:VCALENDAR
