BEGIN:VCALENDAR
VERSION:2.0
PRODID:-//kellogg.northwestern.edu///Outlook MIMEDIR//EN
X-WR-CALNAME: All Faculty Events
BEGIN:VEVENT
DTSTAMP:20260423T132734Z
DTSTART:20240515T183000Z
DTEND:20240515T200000Z
SUMMARY:Stephen Glaeser
X-ALT-DESC;FMTTYPE=text/html:Opening up the Black Box of Corporate R&D
DESCRIPTION:Opening up the Black Box of Corporate R&D
LOCATION:Kellogg Global Hub KGH 5301
SEQUENCE:0
UID:9aefcab1-ab6a-4dc2-a688-4b11a32a4ad2
END:VEVENT
END:VCALENDAR
