BEGIN:VCALENDAR
VERSION:2.0
PRODID:-//kellogg.northwestern.edu///Outlook MIMEDIR//EN
X-WR-CALNAME: All Faculty Events
BEGIN:VEVENT
DTSTAMP:20260421T201604Z
DTSTART:20210426T170000Z
DTEND:20210426T183000Z
SUMMARY:Massimo Morelli
X-ALT-DESC;FMTTYPE=text/html:Title TBA
DESCRIPTION:Title TBA
LOCATION:Virtual Event
SEQUENCE:0
UID:9aa96447-ccf0-4e22-a3ae-4046ddbe7291
END:VEVENT
END:VCALENDAR
