BEGIN:VCALENDAR
VERSION:2.0
PRODID:-//kellogg.northwestern.edu///Outlook MIMEDIR//EN
X-WR-CALNAME: All Faculty Events
BEGIN:VEVENT
DTSTAMP:20260424T223632Z
DTSTART:20181002T170500Z
DTEND:20181002T180500Z
SUMMARY:Elena Prager
X-ALT-DESC;FMTTYPE=text/html:“Employer Consolidation and Wages: Evidence from Hospitals"
DESCRIPTION:“Employer Consolidation and Wages: Evidence from Hospitals"
LOCATION:Kellogg Global Hub 4302
SEQUENCE:0
UID:9a3bc192-5266-4c4f-bc21-d5c1ee9bd2db
END:VEVENT
END:VCALENDAR
