BEGIN:VCALENDAR
VERSION:2.0
PRODID:-//kellogg.northwestern.edu///Outlook MIMEDIR//EN
X-WR-CALNAME: All Faculty Events
BEGIN:VEVENT
DTSTAMP:20260424T223634Z
DTSTART:20230215T193000Z
DTEND:20230215T210000Z
SUMMARY:John D. Kepler
X-ALT-DESC;FMTTYPE=text/html:Seminar Topic TBA
DESCRIPTION:Seminar Topic TBA
LOCATION:Kellogg Global Hub KGH 5301
SEQUENCE:0
UID:99ed9348-1454-4ccd-b423-314248769e9c
END:VEVENT
END:VCALENDAR
