BEGIN:VCALENDAR
VERSION:2.0
PRODID:-//kellogg.northwestern.edu///Outlook MIMEDIR//EN
X-WR-CALNAME: All Faculty Events
BEGIN:VEVENT
DTSTAMP:20260421T093344Z
DTSTART:20240221T180000Z
DTEND:20240221T193000Z
SUMMARY:Nadia Brashier
X-ALT-DESC;FMTTYPE=text/html:TBA
DESCRIPTION:TBA
LOCATION:Kellogg Global Hub 5301/Zoom
SEQUENCE:0
UID:991763be-9d40-494e-93b6-b0d2aae143c2
END:VEVENT
END:VCALENDAR
