BEGIN:VCALENDAR
VERSION:2.0
PRODID:-//kellogg.northwestern.edu///Outlook MIMEDIR//EN
X-WR-CALNAME: All Faculty Events
BEGIN:VEVENT
DTSTAMP:20260422T082006Z
DTSTART:20240809T160000Z
DTEND:20240810T180000Z
SUMMARY:Kellogg Accounting Conference
X-ALT-DESC;FMTTYPE=text/html:Kellogg Accounting Conference
DESCRIPTION:Kellogg Accounting Conference
LOCATION:Kellogg Global Hub White Auditorium
SEQUENCE:0
UID:97bc234f-b031-4ffa-9d7d-bcc463c00403
END:VEVENT
END:VCALENDAR
