BEGIN:VCALENDAR
VERSION:2.0
PRODID:-//kellogg.northwestern.edu///Outlook MIMEDIR//EN
X-WR-CALNAME: All Faculty Events
BEGIN:VEVENT
DTSTAMP:20260422T015812Z
DTSTART:20191031T171500Z
DTEND:20191031T181500Z
SUMMARY:Gabriel Ziegler
X-ALT-DESC;FMTTYPE=text/html:"Adversarial Bilateral Information Design"
DESCRIPTION:"Adversarial Bilateral Information Design"
LOCATION:Kellogg Global Hub 4302
SEQUENCE:0
UID:979e6177-b0f4-4b0c-9dc6-3563a2bc8856
END:VEVENT
END:VCALENDAR
