BEGIN:VCALENDAR
VERSION:2.0
PRODID:-//kellogg.northwestern.edu///Outlook MIMEDIR//EN
X-WR-CALNAME: All Faculty Events
BEGIN:VEVENT
DTSTAMP:20260422T010838Z
DTSTART:20210513T170000Z
DTEND:20210513T183000Z
SUMMARY:John Van Reenen
X-ALT-DESC;FMTTYPE=text/html:Innovation Seminar Series
DESCRIPTION:Innovation Seminar Series
LOCATION:Virtual Event
SEQUENCE:0
UID:972dddb9-51e6-47b5-b0c0-4b3d5f9051dc
END:VEVENT
END:VCALENDAR
