BEGIN:VCALENDAR
VERSION:2.0
PRODID:-//kellogg.northwestern.edu///Outlook MIMEDIR//EN
X-WR-CALNAME: All Faculty Events
BEGIN:VEVENT
DTSTAMP:20260421T083239Z
DTSTART:20180410T210000Z
DTEND:20180410T230000Z
SUMMARY:New Chair Investiture Ceremony
X-ALT-DESC;FMTTYPE=text/html:
DESCRIPTION:
LOCATION:Kellogg Global Hub White Auditorium
SEQUENCE:0
UID:9625f582-fa1f-416b-aedc-4069635d15f3
END:VEVENT
END:VCALENDAR
