BEGIN:VCALENDAR
VERSION:2.0
PRODID:-//kellogg.northwestern.edu///Outlook MIMEDIR//EN
X-WR-CALNAME: All Faculty Events
BEGIN:VEVENT
DTSTAMP:20260421T155622Z
DTSTART:20231201T181500Z
DTEND:20231201T191500Z
SUMMARY:Operations Seminar - Minje Park
X-ALT-DESC;FMTTYPE=text/html:“Time to Recover Market Share: A New Metric of Supply Chain Resilience”
DESCRIPTION:“Time to Recover Market Share: A New Metric of Supply Chain Resilience”
LOCATION:Kellogg Global Hub 5101
SEQUENCE:0
UID:95b2803d-22d2-4be8-86ff-3c36f04991aa
END:VEVENT
END:VCALENDAR
