BEGIN:VCALENDAR
VERSION:2.0
PRODID:-//kellogg.northwestern.edu///Outlook MIMEDIR//EN
X-WR-CALNAME: All Faculty Events
BEGIN:VEVENT
DTSTAMP:20260425T110228Z
DTSTART:20250417T130000Z
DTEND:20250417T100000Z
SUMMARY:Rookiefest 2025
X-ALT-DESC;FMTTYPE=text/html:The Global Poverty Research Lab annually hosts Development Rookiefest, which features an invited group of doctoral students in development economics presenting their job talk paper to scholars from the Chicagoland and greater Midwest area.
DESCRIPTION:The Global Poverty Research Lab annually hosts Development Rookiefest, which features an invited group of doctoral students in development economics presenting their job talk paper to scholars from the Chicagoland and greater Midwest area.
LOCATION:White Auditorium, Kellogg School of Management
2211 N Campus Drive
Evanston, IL
SEQUENCE:0
UID:952c01d4-1ac5-406f-85b9-a4cb067758e4
END:VEVENT
END:VCALENDAR
