BEGIN:VCALENDAR
VERSION:2.0
PRODID:-//kellogg.northwestern.edu///Outlook MIMEDIR//EN
X-WR-CALNAME: All Faculty Events
BEGIN:VEVENT
DTSTAMP:20260423T141622Z
DTSTART:20170516T171500Z
DTEND:20170516T181500Z
SUMMARY:Andrew Sutherland
X-ALT-DESC;FMTTYPE=text/html:"Information Sharing and Lender Specialization: Evidence from the U.S. Commercial Lending Market" Co-authored with Jose Liberti, Clinical Professor of Finance, Kellogg School of Management
DESCRIPTION:"Information Sharing and Lender Specialization: Evidence from the U.S. Commercial Lending Market" Co-authored with Jose Liberti, Clinical Professor of Finance, Kellogg School of Management
LOCATION:Kellogg Global Hub 4101
SEQUENCE:0
UID:940ddbbe-a43b-48fe-b9db-cbaf16e8f43d
END:VEVENT
END:VCALENDAR
