BEGIN:VCALENDAR
VERSION:2.0
PRODID:-//kellogg.northwestern.edu///Outlook MIMEDIR//EN
X-WR-CALNAME: All Faculty Events
BEGIN:VEVENT
DTSTAMP:20260422T210611Z
DTSTART:20241002T170000Z
DTEND:20241002T183000Z
SUMMARY:Mary-Hunter (Mae) McDonnell
X-ALT-DESC;FMTTYPE=text/html:TBA
DESCRIPTION:TBA
LOCATION:Kellogg Global Hub 5101/Zoom
SEQUENCE:0
UID:91d738c6-cd6d-4e82-9513-8a40d25980cd
END:VEVENT
END:VCALENDAR
