BEGIN:VCALENDAR
VERSION:2.0
PRODID:-//kellogg.northwestern.edu///Outlook MIMEDIR//EN
X-WR-CALNAME: All Faculty Events
BEGIN:VEVENT
DTSTAMP:20260419T100951Z
DTSTART:20260515T171000Z
DTEND:20260515T182500Z
SUMMARY:Behavioral Economics Seminar - Joseph Harrington
X-ALT-DESC;FMTTYPE=text/html:Title forthcoming
DESCRIPTION:Title forthcoming
LOCATION:TBA
SEQUENCE:0
UID:91c2e34d-bbbd-4648-a6e3-c3e9ca0de249
END:VEVENT
END:VCALENDAR
