BEGIN:VCALENDAR
VERSION:2.0
PRODID:-//kellogg.northwestern.edu///Outlook MIMEDIR//EN
X-WR-CALNAME: All Faculty Events
BEGIN:VEVENT
DTSTAMP:20260422T235155Z
DTSTART:20190402T170000Z
DTEND:20190402T180000Z
SUMMARY:Kaylene McClanahan
X-ALT-DESC;FMTTYPE=text/html:"Performance Pressure Increases the Preference for Dominance Leaders"
DESCRIPTION:"Performance Pressure Increases the Preference for Dominance Leaders"
LOCATION:Kellogg Global Hub 5101
SEQUENCE:0
UID:91a665ac-a547-461d-b3b2-59fd65bf5b5e
END:VEVENT
END:VCALENDAR
