BEGIN:VCALENDAR
VERSION:2.0
PRODID:-//kellogg.northwestern.edu///Outlook MIMEDIR//EN
X-WR-CALNAME: All Faculty Events
BEGIN:VEVENT
DTSTAMP:20260421T094929Z
DTSTART:20190516T171500Z
DTEND:20190516T181500Z
SUMMARY:Nemanja Antic
X-ALT-DESC;FMTTYPE=text/html:"Subversive Conversations"
DESCRIPTION:"Subversive Conversations"
LOCATION:Kellogg Global Hub 4101
SEQUENCE:0
UID:8f57f36c-8ca7-4671-9ffc-9546d75e9d13
END:VEVENT
END:VCALENDAR
