BEGIN:VCALENDAR
VERSION:2.0
PRODID:-//kellogg.northwestern.edu///Outlook MIMEDIR//EN
X-WR-CALNAME: All Faculty Events
BEGIN:VEVENT
DTSTAMP:20260424T183958Z
DTSTART:20190506T170000Z
DTEND:20190506T180000Z
SUMMARY:Ro'ee Levy
X-ALT-DESC;FMTTYPE=text/html:"Social Media and Polarization: Evidence from a Field Experiment"
DESCRIPTION:"Social Media and Polarization: Evidence from a Field Experiment"
LOCATION:Kellogg Global Hub 5201
SEQUENCE:0
UID:89a85e10-7ad2-4d04-9988-7288252b5893
END:VEVENT
END:VCALENDAR
