BEGIN:VCALENDAR
VERSION:2.0
PRODID:-//kellogg.northwestern.edu///Outlook MIMEDIR//EN
X-WR-CALNAME: All Faculty Events
BEGIN:VEVENT
DTSTAMP:20260425T054246Z
DTSTART:20220517T170000Z
DTEND:20220517T180000Z
SUMMARY:Lauren Rivera
X-ALT-DESC;FMTTYPE=text/html:Gatekeeping and Inequality in Elite Independent School Admissions
DESCRIPTION:Gatekeeping and Inequality in Elite Independent School Admissions
LOCATION:Kellogg Global Hub Zoom
SEQUENCE:0
UID:880ff263-93e4-466f-924f-2fff460d7991
END:VEVENT
END:VCALENDAR
