BEGIN:VCALENDAR
VERSION:2.0
PRODID:-//kellogg.northwestern.edu///Outlook MIMEDIR//EN
X-WR-CALNAME: All Faculty Events
BEGIN:VEVENT
DTSTAMP:20260421T154827Z
DTSTART:20240423T170500Z
DTEND:20240423T180500Z
SUMMARY:Shengmao Cao
X-ALT-DESC;FMTTYPE=text/html:“The Effects Of Generic Entries On Drug Prices  And Sales: A Cross-country Analysis”
DESCRIPTION:“The Effects Of Generic Entries On Drug Prices  And Sales: A Cross-country Analysis”
LOCATION:Kellogg Global Hub 5301
SEQUENCE:0
UID:879a823d-2f34-4260-aa71-421eb49fe328
END:VEVENT
END:VCALENDAR
