BEGIN:VCALENDAR
VERSION:2.0
PRODID:-//kellogg.northwestern.edu///Outlook MIMEDIR//EN
X-WR-CALNAME: All Faculty Events
BEGIN:VEVENT
DTSTAMP:20260424T095307Z
DTSTART:20241007T170000Z
DTEND:20241007T180000Z
SUMMARY:Operations Seminar - Ilan Lobel
X-ALT-DESC;FMTTYPE=text/html:Signaling Competition in Two-Sided Markets
DESCRIPTION:Signaling Competition in Two-Sided Markets
LOCATION:Kellogg Global Hub 4101
SEQUENCE:0
UID:86582265-b6d9-42a9-8555-b9fd4fdb638d
END:VEVENT
END:VCALENDAR
