BEGIN:VCALENDAR
VERSION:2.0
PRODID:-//kellogg.northwestern.edu///Outlook MIMEDIR//EN
X-WR-CALNAME: All Faculty Events
BEGIN:VEVENT
DTSTAMP:20260419T191319Z
DTSTART:20220208T181500Z
DTEND:20220208T194500Z
SUMMARY:Doug Guilbeault
X-ALT-DESC;FMTTYPE=text/html:How communication networks promote cross-cultural similarities: The case of category formation
DESCRIPTION:How communication networks promote cross-cultural similarities: The case of category formation
LOCATION:Kellogg Global Hub 5101
SEQUENCE:0
UID:853a385a-65e6-454c-b9aa-6efceb479eab
END:VEVENT
END:VCALENDAR
