BEGIN:VCALENDAR
VERSION:2.0
PRODID:-//kellogg.northwestern.edu///Outlook MIMEDIR//EN
X-WR-CALNAME: All Faculty Events
BEGIN:VEVENT
DTSTAMP:20260425T061237Z
DTSTART:20220525T170000Z
DTEND:20220525T183000Z
SUMMARY:Shai Davidai
X-ALT-DESC;FMTTYPE=text/html:Is status a zero-sum game? Zero-sum beliefs about social hierarchies increase preferences for dominance but not prestige
DESCRIPTION:Is status a zero-sum game? Zero-sum beliefs about social hierarchies increase preferences for dominance but not prestige
LOCATION:Virtual Event Zoom
SEQUENCE:0
UID:84d771c6-ee30-4623-ae02-9f19c95179b0
END:VEVENT
END:VCALENDAR
