BEGIN:VCALENDAR
VERSION:2.0
PRODID:-//kellogg.northwestern.edu///Outlook MIMEDIR//EN
X-WR-CALNAME: All Faculty Events
BEGIN:VEVENT
DTSTAMP:20260425T172754Z
DTSTART:20241008T163500Z
DTEND:20241008T180500Z
SUMMARY:Hyein Cho
X-ALT-DESC;FMTTYPE=text/html:Vertical Integration of Healthcare Providers and Insurers: Primary Care Practitioners as Gatekeepers vs. Coordinators
DESCRIPTION:Vertical Integration of Healthcare Providers and Insurers: Primary Care Practitioners as Gatekeepers vs. Coordinators
LOCATION:Kellogg Global Hub 4302
SEQUENCE:0
UID:8252adfa-3fb7-4e1c-91e1-b6ca4adc01bd
END:VEVENT
END:VCALENDAR
