BEGIN:VCALENDAR
VERSION:2.0
PRODID:-//kellogg.northwestern.edu///Outlook MIMEDIR//EN
X-WR-CALNAME: All Faculty Events
BEGIN:VEVENT
DTSTAMP:20260421T052452Z
DTSTART:20200129T180000Z
DTEND:20200129T193000Z
SUMMARY:Aparna Joshi
X-ALT-DESC;FMTTYPE=text/html:A Gender Complexity View of Male Leaders: How the Masculinity and Femininity of Male CEOs Affects CEO Compensation and Firm Performance
DESCRIPTION:A Gender Complexity View of Male Leaders: How the Masculinity and Femininity of Male CEOs Affects CEO Compensation and Firm Performance
LOCATION:Kellogg Global Hub 5101
SEQUENCE:0
UID:824adf2f-11c3-434a-83af-495d58518cd3
END:VEVENT
END:VCALENDAR
