BEGIN:VCALENDAR
VERSION:2.0
PRODID:-//kellogg.northwestern.edu///Outlook MIMEDIR//EN
X-WR-CALNAME: All Faculty Events
BEGIN:VEVENT
DTSTAMP:20260424T112730Z
DTSTART:20181004T200000Z
DTEND:20181004T213000Z
SUMMARY:Luca Bittarello
X-ALT-DESC;FMTTYPE=text/html:"Organizing Collective Action: Labor Strife in the U.S. in the 1880s"
DESCRIPTION:"Organizing Collective Action: Labor Strife in the U.S. in the 1880s"
LOCATION:Kellogg Global Hub 1410
SEQUENCE:0
UID:81220b36-eccb-4856-9b07-7242ffb43272
END:VEVENT
END:VCALENDAR
