BEGIN:VCALENDAR
VERSION:2.0
PRODID:-//kellogg.northwestern.edu///Outlook MIMEDIR//EN
X-WR-CALNAME: All Faculty Events
BEGIN:VEVENT
DTSTAMP:20260421T064850Z
DTSTART:20170426T161500Z
DTEND:20170426T173000Z
SUMMARY:Brett Green
X-ALT-DESC;FMTTYPE=text/html:"Optimal Arrangements for Distribution in Developing Markets: Theory and Evidence"
DESCRIPTION:"Optimal Arrangements for Distribution in Developing Markets: Theory and Evidence"
LOCATION:Kellogg Global Hub 1120
SEQUENCE:0
UID:7fa1db00-62ce-417f-8c13-953ce0088d4d
END:VEVENT
END:VCALENDAR
