BEGIN:VCALENDAR
VERSION:2.0
PRODID:-//kellogg.northwestern.edu///Outlook MIMEDIR//EN
X-WR-CALNAME: All Faculty Events
BEGIN:VEVENT
DTSTAMP:20260421T132612Z
DTSTART:20191120T193000Z
DTEND:20191120T204500Z
SUMMARY:James Ohlson
X-ALT-DESC;FMTTYPE=text/html:"Explaining Returns through Valuation"
DESCRIPTION:"Explaining Returns through Valuation"
LOCATION:Kellogg Global Hub 5301
SEQUENCE:0
UID:7f5cf63f-1f8b-4987-85f2-e8dc6a18d70f
END:VEVENT
END:VCALENDAR
