BEGIN:VCALENDAR
VERSION:2.0
PRODID:-//kellogg.northwestern.edu///Outlook MIMEDIR//EN
X-WR-CALNAME: All Faculty Events
BEGIN:VEVENT
DTSTAMP:20260421T083302Z
DTSTART:20200317T160000Z
DTEND:20200317T171500Z
SUMMARY:Brett Hollenbeck
X-ALT-DESC;FMTTYPE=text/html:
DESCRIPTION:
LOCATION:Kellogg Global Hub tbd
SEQUENCE:0
UID:7b32b890-2090-4a57-b4f5-56e2d3292020
END:VEVENT
END:VCALENDAR
