BEGIN:VCALENDAR
VERSION:2.0
PRODID:-//kellogg.northwestern.edu///Outlook MIMEDIR//EN
X-WR-CALNAME: All Faculty Events
BEGIN:VEVENT
DTSTAMP:20260421T081338Z
DTSTART:20240529T160000Z
DTEND:20240529T171500Z
SUMMARY:Julia Fonseca
X-ALT-DESC;FMTTYPE=text/html: "Simple Allocation Rules and Optimal Portfolio Choice Over the Lifecycle"
DESCRIPTION: "Simple Allocation Rules and Optimal Portfolio Choice Over the Lifecycle"
LOCATION:Kellogg Global Hub KGH 4101
SEQUENCE:0
UID:7b2ef614-887f-4c6b-a1be-3e506b4cec3c
END:VEVENT
END:VCALENDAR
