BEGIN:VCALENDAR
VERSION:2.0
PRODID:-//kellogg.northwestern.edu///Outlook MIMEDIR//EN
X-WR-CALNAME: All Faculty Events
BEGIN:VEVENT
DTSTAMP:20260421T034105Z
DTSTART:20221019T164500Z
DTEND:20221019T180000Z
SUMMARY:Rupali Kaul
X-ALT-DESC;FMTTYPE=text/html:Does Customer Feedback Lead to Spillover Effects through Firm Improvements? Evidence from a Field Experiment in Rwanda
DESCRIPTION:Does Customer Feedback Lead to Spillover Effects through Firm Improvements? Evidence from a Field Experiment in Rwanda
LOCATION:Kellogg Global Hub KGH 1130
SEQUENCE:0
UID:7750e773-43fe-4344-8870-ce647d5c36a0
END:VEVENT
END:VCALENDAR
