BEGIN:VCALENDAR
VERSION:2.0
PRODID:-//kellogg.northwestern.edu///Outlook MIMEDIR//EN
X-WR-CALNAME: All Faculty Events
BEGIN:VEVENT
DTSTAMP:20260421T052557Z
DTSTART:20251008T160000Z
DTEND:20251008T171500Z
SUMMARY:Ruru Hoong
X-ALT-DESC;FMTTYPE=text/html:Calibrated Coarsening: Designing Information for AI-Assisted Decisions
DESCRIPTION:Calibrated Coarsening: Designing Information for AI-Assisted Decisions
LOCATION:KGH L120
SEQUENCE:0
UID:7749644c-5848-468c-bd8b-cc7508ded8c2
END:VEVENT
END:VCALENDAR
