BEGIN:VCALENDAR
VERSION:2.0
PRODID:-//kellogg.northwestern.edu///Outlook MIMEDIR//EN
X-WR-CALNAME: All Faculty Events
BEGIN:VEVENT
DTSTAMP:20260424T230409Z
DTSTART:20210929T203000Z
DTEND:20210929T220000Z
SUMMARY:Omer Tamuz
X-ALT-DESC;FMTTYPE=text/html:Private Private Information
DESCRIPTION:Private Private Information
LOCATION:Kellogg Global Hub 5101
SEQUENCE:0
UID:740fbcf5-6391-4a61-9537-8e1ed0c1f77c
END:VEVENT
END:VCALENDAR
