BEGIN:VCALENDAR
VERSION:2.0
PRODID:-//kellogg.northwestern.edu///Outlook MIMEDIR//EN
X-WR-CALNAME: All Faculty Events
BEGIN:VEVENT
DTSTAMP:20260423T001644Z
DTSTART:20190416T170500Z
DTEND:20190416T180500Z
SUMMARY:Sanket Patil
X-ALT-DESC;FMTTYPE=text/html:"Strategic Information Disclosure to Statisticians"
DESCRIPTION:"Strategic Information Disclosure to Statisticians"
LOCATION:Kellogg Global Hub 5301
SEQUENCE:0
UID:7383c6c3-c1bb-4844-bddb-ced4636a7882
END:VEVENT
END:VCALENDAR
