BEGIN:VCALENDAR
VERSION:2.0
PRODID:-//kellogg.northwestern.edu///Outlook MIMEDIR//EN
X-WR-CALNAME: All Faculty Events
BEGIN:VEVENT
DTSTAMP:20260422T015806Z
DTSTART:20221109T194500Z
DTEND:20221109T210000Z
SUMMARY:Alex Bloedel
X-ALT-DESC;FMTTYPE=text/html:Talk title: "Agenda Control Confers Dictatorial Power"
DESCRIPTION:Talk title: "Agenda Control Confers Dictatorial Power"
LOCATION:Kellogg Global Hub Rm 4101
SEQUENCE:0
UID:72ac7453-3578-4ed2-89ac-d60e499084c9
END:VEVENT
END:VCALENDAR
