BEGIN:VCALENDAR
VERSION:2.0
PRODID:-//kellogg.northwestern.edu///Outlook MIMEDIR//EN
X-WR-CALNAME: All Faculty Events
BEGIN:VEVENT
DTSTAMP:20260421T211302Z
DTSTART:20170322T170000Z
DTEND:20170315T180000Z
SUMMARY:Stefan Wager
X-ALT-DESC;FMTTYPE=text/html:Solving Heterogeneous Estimating Equations with Gradient Forests
DESCRIPTION:Solving Heterogeneous Estimating Equations with Gradient Forests
LOCATION:Donald P. Jacobs Center 561
SEQUENCE:0
UID:719d0a3f-2383-496d-b623-3c3ef90fd1e3
END:VEVENT
END:VCALENDAR
