BEGIN:VCALENDAR
VERSION:2.0
PRODID:-//kellogg.northwestern.edu///Outlook MIMEDIR//EN
X-WR-CALNAME: All Faculty Events
BEGIN:VEVENT
DTSTAMP:20260421T154829Z
DTSTART:20151113T223000Z
DTEND:20151113T234500Z
SUMMARY:Francesco Pappadà
X-ALT-DESC;FMTTYPE=text/html:
DESCRIPTION:
LOCATION:Kellogg Global Hub Room 4302
SEQUENCE:0
UID:6fa0ab46-1527-41bc-a699-e3752f8df041
END:VEVENT
END:VCALENDAR
