BEGIN:VCALENDAR
VERSION:2.0
PRODID:-//kellogg.northwestern.edu///Outlook MIMEDIR//EN
X-WR-CALNAME: All Faculty Events
BEGIN:VEVENT
DTSTAMP:20260421T064850Z
DTSTART:20201117T180500Z
DTEND:20201117T193500Z
SUMMARY:Ruozhou Yan
X-ALT-DESC;FMTTYPE=text/html:"Organizing a Social Movement"
DESCRIPTION:"Organizing a Social Movement"
LOCATION:Virtual Event
SEQUENCE:0
UID:6f9d1cb8-2201-4fce-8929-8deb13de251a
END:VEVENT
END:VCALENDAR
