BEGIN:VCALENDAR
VERSION:2.0
PRODID:-//kellogg.northwestern.edu///Outlook MIMEDIR//EN
X-WR-CALNAME: All Faculty Events
BEGIN:VEVENT
DTSTAMP:20260421T135004Z
DTSTART:20170605T171500Z
DTEND:20170605T181500Z
SUMMARY:Brittany Lewis
X-ALT-DESC;FMTTYPE=text/html:“Real Effects of Capping Leverage in the Banking Sector”
DESCRIPTION:“Real Effects of Capping Leverage in the Banking Sector”
LOCATION:Kellogg Global Hub 1410
SEQUENCE:0
UID:6d8f1aea-058a-4219-8123-edbab8034bf1
END:VEVENT
END:VCALENDAR
