BEGIN:VCALENDAR
VERSION:2.0
PRODID:-//kellogg.northwestern.edu///Outlook MIMEDIR//EN
X-WR-CALNAME: All Faculty Events
BEGIN:VEVENT
DTSTAMP:20260425T130305Z
DTSTART:20240403T184500Z
DTEND:20240403T200000Z
SUMMARY:Jonas Hjort
X-ALT-DESC;FMTTYPE=text/html:"Ethnic Bias in the State: Experimental Evidence from Peru"
DESCRIPTION:"Ethnic Bias in the State: Experimental Evidence from Peru"
LOCATION:Kellogg Global Hub 4101, virtual option
SEQUENCE:0
UID:6d4bba35-f4dc-4d67-8d18-80a304293698
END:VEVENT
END:VCALENDAR
