BEGIN:VCALENDAR
VERSION:2.0
PRODID:-//kellogg.northwestern.edu///Outlook MIMEDIR//EN
X-WR-CALNAME: All Faculty Events
BEGIN:VEVENT
DTSTAMP:20260424T054933Z
DTSTART:20181009T170000Z
DTEND:20181009T183000Z
SUMMARY:Jessica Yu
X-ALT-DESC;FMTTYPE=text/html:"Search, Selectivity, and Market Thickness in Two-Sided Markets"
DESCRIPTION:"Search, Selectivity, and Market Thickness in Two-Sided Markets"
LOCATION:Kellogg Global Hub KGH 5301
SEQUENCE:0
UID:695ffa13-3fae-41bc-95f4-a47356ab672d
END:VEVENT
END:VCALENDAR
