BEGIN:VCALENDAR
VERSION:2.0
PRODID:-//kellogg.northwestern.edu///Outlook MIMEDIR//EN
X-WR-CALNAME: All Faculty Events
BEGIN:VEVENT
DTSTAMP:20260424T211033Z
DTSTART:20250916T171500Z
DTEND:20250916T181500Z
SUMMARY:Marwin Monkemeyer
X-ALT-DESC;FMTTYPE=text/html:TBA
DESCRIPTION:TBA
LOCATION:5101
SEQUENCE:0
UID:692e0377-83f2-4317-8489-9790411099cc
END:VEVENT
END:VCALENDAR
