BEGIN:VCALENDAR
VERSION:2.0
PRODID:-//kellogg.northwestern.edu///Outlook MIMEDIR//EN
X-WR-CALNAME: All Faculty Events
BEGIN:VEVENT
DTSTAMP:20260423T031747Z
DTSTART:20190424T160000Z
DTEND:20190424T171500Z
SUMMARY:Toni Whited
X-ALT-DESC;FMTTYPE=text/html:"Bank Market Power and Monetary Policy Transmission: Evidence from a Structural Estimation"
DESCRIPTION:"Bank Market Power and Monetary Policy Transmission: Evidence from a Structural Estimation"
LOCATION:Kellogg Global Hub 1110
SEQUENCE:0
UID:67ff64b6-dd24-4330-9884-6b754d053407
END:VEVENT
END:VCALENDAR
