BEGIN:VCALENDAR
VERSION:2.0
PRODID:-//kellogg.northwestern.edu///Outlook MIMEDIR//EN
X-WR-CALNAME: All Faculty Events
BEGIN:VEVENT
DTSTAMP:20260421T221845Z
DTSTART:20170921T171500Z
DTEND:20170921T181500Z
SUMMARY:John Hillas
X-ALT-DESC;FMTTYPE=text/html:"Backward induction in games without perfect recall"
DESCRIPTION:"Backward induction in games without perfect recall"
LOCATION:Kellogg Global Hub 4302
SEQUENCE:0
UID:6669066e-6a21-420e-9f3b-d7942281abb0
END:VEVENT
END:VCALENDAR
