BEGIN:VCALENDAR
VERSION:2.0
PRODID:-//kellogg.northwestern.edu///Outlook MIMEDIR//EN
X-WR-CALNAME: All Faculty Events
BEGIN:VEVENT
DTSTAMP:20260423T113838Z
DTSTART:20240214T163000Z
DTEND:20240214T180000Z
SUMMARY:Magnus Irie
X-ALT-DESC;FMTTYPE=text/html:"Innovations in Entrepreneurial Finance and Top Wealth Inequality"
DESCRIPTION:"Innovations in Entrepreneurial Finance and Top Wealth Inequality"
LOCATION:Kellogg Global Hub KGH 4101
SEQUENCE:0
UID:6641b2e1-488a-4987-ae4e-7317ae495452
END:VEVENT
END:VCALENDAR
