BEGIN:VCALENDAR
VERSION:2.0
PRODID:-//kellogg.northwestern.edu///Outlook MIMEDIR//EN
X-WR-CALNAME: All Faculty Events
BEGIN:VEVENT
DTSTAMP:20260423T031502Z
DTSTART:20190424T160000Z
DTEND:20190424T171500Z
SUMMARY:John G. Lynch, Jr.
X-ALT-DESC;FMTTYPE=text/html:
DESCRIPTION:
LOCATION:Kellogg Global Hub L120
SEQUENCE:0
UID:65dfd2c0-ec21-4fba-9137-6d1b79a24ca5
END:VEVENT
END:VCALENDAR
