BEGIN:VCALENDAR
VERSION:2.0
PRODID:-//kellogg.northwestern.edu///Outlook MIMEDIR//EN
X-WR-CALNAME: All Faculty Events
BEGIN:VEVENT
DTSTAMP:20260421T003705Z
DTSTART:20240522T164500Z
DTEND:20240522T180000Z
SUMMARY:Navdeep S. Sahni
X-ALT-DESC;FMTTYPE=text/html:Consumer Memory and Competitive Interference: The Case of Auto Insurance Advertising
DESCRIPTION:Consumer Memory and Competitive Interference: The Case of Auto Insurance Advertising
LOCATION:Kellogg Global Hub L 120
SEQUENCE:0
UID:644e8f28-8183-41cf-8ad9-8caba9e78390
END:VEVENT
END:VCALENDAR
