BEGIN:VCALENDAR
VERSION:2.0
PRODID:-//kellogg.northwestern.edu///Outlook MIMEDIR//EN
X-WR-CALNAME: All Faculty Events
BEGIN:VEVENT
DTSTAMP:20260424T164642Z
DTSTART:20220418T171500Z
DTEND:20220418T183000Z
SUMMARY:Nir Hak
X-ALT-DESC;FMTTYPE=text/html:"Dynamic Pricing and Market Design for Ride-Sharing"
DESCRIPTION:"Dynamic Pricing and Market Design for Ride-Sharing"
LOCATION:Kellogg Global Hub 5101
SEQUENCE:0
UID:60563611-ac9c-45fb-b20a-6e91ddcfcb9a
END:VEVENT
END:VCALENDAR
