BEGIN:VCALENDAR
VERSION:2.0
PRODID:-//kellogg.northwestern.edu///Outlook MIMEDIR//EN
X-WR-CALNAME: All Faculty Events
BEGIN:VEVENT
DTSTAMP:20260421T031616Z
DTSTART:20191113T190000Z
DTEND:20191113T200000Z
SUMMARY:Richard Sandor /
X-ALT-DESC;FMTTYPE=text/html:"Inventing a new benchmark: the tale of the American Financial Exchange and AMERIBOR"
DESCRIPTION:"Inventing a new benchmark: the tale of the American Financial Exchange and AMERIBOR"
LOCATION:Kellogg Global Hub L120
SEQUENCE:0
UID:5faf34d3-0bf6-4558-a3e0-93351bf4b4fe
END:VEVENT
END:VCALENDAR
